BEGIN:VCALENDAR
VERSION:2.0
PRODID:icalendar-ruby
CALSCALE:GREGORIAN
METHOD:PUBLISH
BEGIN:VEVENT
DTSTAMP:20260422T224315Z
UID:20-451996@homesteadumc.org
DTSTART:20260531T010000Z
DTEND:20260531T030000Z
CLASS:PUBLIC
CREATED:20260422T162839
DESCRIPTION:Join us for Evening Prayer—a quiet refuge in the midst of a n
 oisy world. This contemplative gathering is shaped by sacred stillness\, g
 entle rhythms of Scripture\, prayer\, and the grace of Holy Communion. Rat
 her than a loud or crowded service\, this is a space to slow down\, breath
 e deeply\, and encounter God in silence and simplicity\, with a brief homi
 ly to guide reflection. After the service\, stay for food and conversation
  as we build community and deepen relationships together.
LAST-MODIFIED:20260422T162839
LOCATION:3004 Hwy 52N\, Rochester\, MN 55901
SUMMARY:Evening Prayer
URL;VALUE=URI:https://www.homesteadumc.org/events/evening-prayer/2026-05-30
ATTACH;FILENAME=ChatGPT-Image-Apr-21-2026-02_03_34-PM.png;FMTTYPE=image/png
 :https://dq5pwpg1q8ru0.cloudfront.net/2026/04/21/19/05/31/a62948da-8798-43
 cc-919a-2a892af55011/ChatGPT-Image-Apr-21-2026-02_03_34-PM.png
END:VEVENT
END:VCALENDAR
